0.0125
0
0
-0.008333333
120.00625
47.99583333
